Workbook
Name a: Specifications!$D$57
Name Aw: Specifications!$D$10
Name Cp: Specifications!$D$64
Name D: Specifications!$D$4
Name Dh: Specifications!$D$20
Name dt: Model!$D$7
Name e: Specifications!$D$56
Name ee: Specifications!$D$58
Name FinN: Specifications!$E$9
Name I: Specifications!$D$50
Name k: Specifications!$D$60
Name L: Specifications!$D$2
Name m.: Model!$D$5
Name Pi: Model!$D$2
Name Qi: Model!$D$4
Name Rh: Specifications!$D$19
Name ri: Model!$D$3
Name Rs: 'Air Properties'!$J$9
Name s: Specifications!$D$8
Name SBK: Specifications!$D$59
Name Te: Specifications!$D$52
Name tf: Specifications!$D$7
Name Ti: Model!$D$1
Name tp: Specifications!$D$6
Name Vi: Model!$D$6
Name W: Specifications!$D$3
Name Wc: Specifications!$D$12
Name y: Specifications!$D$5

Sheet Interface
A2: Dwelling Altitude | B2: m | C2: 1000
A3: Mean Pressure | B3: Pa | C3: =101325*(288.15/(288.15-0.0065*C2))^(-9.81/(287.1*0.0065)) -> 89872.651
A4: Dwelling Internal Volume | B4: m3 | C4: =40*20*3 -> 2400
A5: External Material | C5: Dbl Brick | D5: Dbl Glass | E5: 6in Batts | F5: Other | G5: Total
A6: Clad Area | B6: m2 | C6: =40*3*2+20*3*2 -> 360 | D6: =15*2 -> 30 | E6: =40*20 -> 800 | F6: 0 | G6: =SUM(Table2[[#This Row],[Dbl Brick]:[Other]]) -> 1190
A7: R-Value | C7: =4+1+4 -> 9 | D7: 1.5 | E7: 17 | F7: 1
A8: SI or US R-Values | C8: US | D8: US | E8: US | F8: US
A9: SI R-Value | B9: K.m2/W | C9: =IF(C8="US",C7*0.17611) -> 1.58499 | D9: =IF(D8="US",D7*0.17611) -> 0.264165 | E9: =IF(E8="US",E7*0.17611) -> 2.99387 | F9: =IF(F8="US",F7*0.17611) -> 0.17611
A10: Conductive Heat Loss Potential | B10: W/DK | C10: =C6/C9 -> 227.13077 | D10: =D6/D9 -> 113.56539 | E10: =E6/E9 -> 267.21267 | F10: =F6/F9 -> 0 | G10: =SUM(Table2[[#Totals],[Dbl Brick]:[Other]]) -> 607.90883
A12: Recommended Minimum Exhaust | B12: m3/s | m3/hr | C12: =C4/(48*3600) -> 0.013888889 | D12: =C12*3600 -> 50
A13: Target Inside Temperature | B13: oC | C13: 18.5
A14: Inside Air Density | B14: kg/m3 | C14: =C3/(287.1*(C13+273.15)) -> 1.0733278
A15: Daytime Outside Temperature | B15: oC | C15: 14
A16: Loss Coefficient | C16: =(Table2[[#Totals],[Total]]+C14*C12*Specifications!D64/2)/(C14*C4*Specifications!D64) -> 0.00023724373
A17: Heat Loss Rate | B17: W | C17: =(C13-C15)*(Table2[[#Totals],[Total]]+C14*C12*Specifications!D64/2) -> 2769.366
A18: Volume Correction | B18: C | C18: 3
A19: Thermal Half-Life | B19: minutes | C19: =C18*60/3600*LN(((C13+C15)/2-C15)/(C13-C15))/-C16 -> 146.08335 | D19: Increase Thermal Half-Life by increasing R-Values and Volume/Wall Area Ratio
A21: Number of SolrHeat panels installed | B21: N | C21: 2
A22: Total Ducted Flowrate | B22: l/s | C22: =120*C21 -> 240
A23: Fan Power Required for Flowrate | B23: W | C23: =Specifications!D48 -> 12.563683
A24: Warming Cycle Mean Residence Time | B24: s | C24: =C4*1000/C22 -> 10000 | D24: =TRUNC(C24/3600,1)&" hrs" -> 2.7 hrs
A25: Warm-Cool Temperature Range | B25: oC | C25: 5
A26: Warm Target | B26: oC | C26: =C13+C25/2 -> 21
A27: Cool Target | B27: oC | C27: =C13-C25/2 -> 16
A28: Warm Output (from SolrHeat) | B28: oC | C28: =Model!AZL12 -> 21.676345
A29: Cool Output (to SolrHeat) | B29: oC | C29: =C15+(C28-C15)*EXP(-C16/C18*C24) -> 17.48104
A30: Average House Temperature | B30: oC | C30: =AVERAGE(C28:C29) -> 19.578692
A32: Solar Insolation | B32: W/m2 | C32: =I -> 300
A33: Panel Insolation | B33: W | C33: =C32*C21*L*W -> 1200
A34: Panel Heat Exchange | B34: W | C34: =(Model!D16+Model!AZL16)/2*C22/1000*Cp*(C28-C29) -> 1084.6226
A35: Efficiency | B35: % | C35: =C34/C33 -> 0.90385214

Sheet Specifications
A1: Exchanger Specifications
A2: Flow Path Length | B2: L | C2: m | D2: 2
A3: Exchanger Width | B3: W | C3: m | D3: 1
A4: Exchanger Depth | B4: D | C4: m | D4: 0.05
A5: Fin Depth | B5: y | C5: m | D5: 0.05
A6: Plate Thickness | B6: tp | C6: m | D6: 0.001
A7: Fin Thickness | B7: tf | C7: m | D7: 0.001
A8: Fin Spacing | B8: s | C8: m | D8: =(W-FinN*tf)/(FinN-1) -> 0.015932203 | E8: =E9-1 -> 59 | F8: Space #
A9: Number of Fins | B9: N | C9: fins | D9: =(W-tf)/(s+tf)+1 -> 60 | E9: 60 | F9: Fin #
A10: Exchanger Working Flow Area | B10: Aw | C10: m2 | D10: =W*D-FinN*tf*y -> 0.047 | E10: =D10/(D3*D4)-1 -> -0.06
A11: Plate Insolation Area | B11: Ai | C11: m2 | D11: =L*W -> 2
A12: Exchanger Working Contact Width | B12: Wc | C12: m | D12: =IF(y<D,(W+FinN*(2*y-tf)-2*y+FinN*tf),(W+FinN*(2*y-tf)-2*y)) -> 6.84
A13: Exchanger Working Contact Area | B13: Ac | C13: m2 | D13: =IF(y<D,L*(W+FinN*(2*y-tf)-2*y+FinN*tf),L*(W+FinN*(2*y-tf)-2*y)) -> 13.68 | E13: =D13/(D2*D3)-1 -> 5.84
A14: Exchanger Mass | B14: M | C14: kg | D14: =2700*L*(W*tp+FinN*y*tf) -> 21.6
A15: Target Reynolds Number | B15: Re | D15: 10000
A16: Laminar Prandtl Number | B16: Pr | D16: 0.7
A17: Turbulent Prandtl Number | B17: Prt | D17: 0.9
A18: Exchanger Channel
A19: Hydraulic Radius | B19: R | C19: m | D19: =D*s/(2*(D+s)) -> 0.0060411311
A20: Hydraulic Diameter | B20: Dh | C20: m | D20: =4*Rh -> 0.024164524
A21: Working Air Temperature | B21: Tw | C21: K
A22: Working Air Pressure | B22: Pw | C22: Pa | D22: =Interface!C3 -> 89872.651
A23: Hot Air Kinematic Viscosity | B23: u | C23: m2/s | D23: 1.7e-05
A24: Hot Air Density | B24: r | C24: kg/m3 | D24: =D22/(287*(273.15+(Interface!C28+Interface!C29)/2)) -> 1.0697452
A25: Exchanger Velocity | B25: V | C25: m/s | D25: =Model!AZL18 -> 2.5903871
A26: Mass Flowrate | B26: m. | C26: kg/s | D26: =D24*D25*D10 -> 0.13023955
A27: Volume Flowrate | B27: Q | C27: m3/s | D27: =D25*D10 -> 0.12174819
A28: Roughness Height | B28: e | C28: m | D28: =0.0001 -> 0.0001
A29: Friction Factor | B29: f | D29: =IF(D29=0,0.02,1/(-2*LOG(D28/(3.7*D20)+2.51/(D15*SQRT(D29))))^2) -> 0.036580212
A30: Headloss | B30: hf | C30: m | D30: =D29*D2*D25^2/(2*9.8*D20) -> 1.0365046
A31: Pressure Loss | B31: DP | C31: Pa | D31: =D24*9.8*D30 -> 10.866199
A32: Loss Power | B32: Po | C32: W | D32: =D24*9.8*D27*D30 -> 1.3229401 | E32: =D31*D10*D25 -> 1.3229401 | F32: Check
A33: Duct Losses
A34: Diameter | B34: Dd | C34: m | D34: 0.25
A35: Flow Area | B35: A | C35: m2 | D35: =PI()*D34^2/4 -> 0.049087385
A36: Velocity | B36: Vd | C36: m/s | D36: =D27/D35 -> 2.4802338
A37: Reynolds Number | B37: Red | D37: =D36*D34/D23 -> 36474.027
A38: Length | B38: L | C38: m | D38: 50
A39: Roughness Height | B39: ed | C39: m | D39: 0.01
A40: Friction Factor | B40: fd | D40: =IF(D40=0,0.02,1/(-2*LOG(D39/(3.7*D34)+2.51/(D37*SQRT(D40))))^2) -> 0.065379422
A41: Headloss | B41: hfd | C41: m | D41: =D40*D38*D36^2/(2*9.8*D34) -> 4.1039329
A42: Pressure Loss | B42: DPd | C42: Pa | D42: =D41*D24*9.8 -> 43.023594
A43: Loss Power | B43: Pod | C43: W | D43: =D24*9.8*D27*D41 -> 5.2380449 | E43: =D42*D35*D36 -> 5.2380449
A44: Duct Bends | B44: b | C44: # | D44: 10
A45: Bend Losses | B45: hb | C45: m | D45: =D44*1.5*D36^2/19.62 -> 4.7030274
A46: Bend Pressure | B46: DPb | C46: Pa | D46: =D24*9.8*D45 -> 49.304203
A47: Bend Power | B47: Pob | C47: W | D47: =D24*9.8*D27*D45 -> 6.0026976
A48: Total Power | B48: Pot | C48: W | D48: =D47+D43+D32 -> 12.563683
A50: Insolation (Armidale, Winter) | B50: I | C50: W/m2 | D50: 300
A51: Plate Insolation | B51: Ip | C51: W | D51: =D50*L*W -> 600
A52: External Air Temp | B52: Te | C52: K | D52: =273.15+E52 -> 287.15 | E52: =Interface!C15 -> 14 | F52: oC
A53: Plate Temp | B53: Tp | C53: K | D53: 303 | E53: =D53-273 -> 30 | F53: oC
A54: Working Air Temp | B54: Tw | C54: K | D54: =(Interface!C28+Interface!C29)/2+273.15 -> 292.72869 | E54: =D54-273 -> 19.728692 | F54: oC
A56: Internal Emissivity | B56: e | D56: 0.94
A57: External Absorptivity | B57: a | D57: 0.97
A58: External emissivity | B58: ee | D58: 0.35
A59: Stefan-Boltzmann Constant | B59: s | C59: W/m2K4 | D59: 5.67e-08
A60: Air Thermal Conductivity | B60: k | C60: W/mK | D60: =0.0242*(1+0.0031*(D54-273.15)) -> 0.025668794
A61: Laminar Heat Transfer Coefficient | B61: hl | D61: =D60/D20*(3.65+(0.0668*D15*D16*D20/D2)/(1+0.04*(D15*D16*D20/D2)^(2/3))) -> 7.2664587
A62: Turbulent Heat Transfer Coefficient | B62: ht | D62: =0.023*D60/D20*D15^0.8*D17^(1/3) -> 37.385444 | E62: Heat Transfer Databook
A63: Dynamic Heat Transfer Coefficient | B63: kd | C63: W/mk | D63: =D61+(D62-D61)*((D15-2000)/8000) -> 37.385444
A64: Air Heat Capacity | B64: Cp | C64: J/kgK | D64: 1007
A65: Plate Re-Radiation | B65: R | C65: W | D65: =D59*D56*D11*(D53^4-D52^4) -> 173.7563 | E65: Conduction | F65: Radiation
A66: Plate Absorption | B66: H | C66: W | D66: =D63*D13*(D53-D54)+D59*D56*D13*(D53^4-D54^4) -> 6044.979 | E66: =D63*D13*(D53-D54) -> 5253.0843 | F66: =D59*D56*D13*(D53^4-D54^4) -> 791.89461
A67: Inflow Temp | B67: Ti | C67: K | D67: =273+22 -> 295 | E67: =D67-273 -> 22 | F67: oC
A68: Working Air Volume | B68: V | C68: m3 | D68: =D10*D2 -> 0.094
A69: Working Air Mass | B69: m | C69: kg | D69: =D24*D68 -> 0.10055605
A70: Contact Time | B70: t | C70: s | D70: =D2/D25 -> 0.77208538
A71: Heat Inflow | B71: Qh | C71: J | D71: =D70*D66 -> 4667.2399
A72: Air Temperature Change | B72: DT | C72: K | D72: =D71/(D64*D69) -> 46.091669
A73: Outflow Temp | B73: To | C73: K | D73: =D67+D72 -> 341.09167 | E73: =D73-273 -> 68.091669 | F73: oC
A74: Re-Radiation + Absorbption | B74: R+H | C74: W | D74: =D65+D66 -> 6218.7353
A75: Insolation Deficit | D75: =D51-D74 -> -5618.7353

Sheet Air Properties
A1: Common properties for air are indicated the table below | H1: http://www.engineeringtoolbox.com/air-properties-d_156.html
A3: Temperature | B3: Density | C3: Specific heat capacity | D3: Thermal conductivity | E3: Kinematic viscosity | F3: Expansion coefficient | G3: Prandtl's number | H3: Dynamic Viscosity | I3: Prandtl's number (check) | J3: Specific Gas Constant
A4: - t - | B4: - ρ - | C4: - cp - | D4: - l - | E4: - ν - | F4: - b - | G4: - Pr - | H4: m | J4: R
A5: (oC) | B5: (kg/m3) | C5: (kJ/kg.K) | D5: (W/m.K) | H5: Pa.s | J5: J/kgK
E6: x 10-6 | F6: x 10-3 | H6: x 10-6
E8: (m2/s) | F8: (1/K)
A9: -150 | B9: 2.793 | C9: 1.026 | D9: 0.0116 | E9: 3.08 | F9: 8.21 | G9: 0.76 | H9: =E9*B9 -> 8.60244 | I9: =H9*0.000001*C9*1000/D9 -> 0.76087099 | J9: 287
A10: -100 | B10: 1.98 | C10: 1.009 | D10: 0.016 | E10: 5.95 | F10: 5.82 | G10: 0.74 | H10: =E10*B10 -> 11.781 | I10: =H10*0.000001*C10*1000/D10 -> 0.74293931
A11: -50 | B11: 1.534 | C11: 1.005 | D11: 0.0204 | E11: 9.55 | F11: 4.51 | G11: 0.725 | H11: =E11*B11 -> 14.6497 | I11: =H11*0.000001*C11*1000/D11 -> 0.72171316
A12: 0 | B12: 1.293 | C12: 1.005 | D12: 0.0243 | E12: 13.3 | F12: 3.67 | G12: 0.715 | H12: =E12*B12 -> 17.1969 | I12: =H12*0.000001*C12*1000/D12 -> 0.71122981
A13: 20 | B13: 1.205 | C13: 1.005 | D13: 0.0257 | E13: 15.11 | F13: 3.43 | G13: 0.713 | H13: =E13*B13 -> 18.20755 | I13: =H13*0.000001*C13*1000/D13 -> 0.71200731
A14: 40 | B14: 1.127 | C14: 1.005 | D14: 0.0271 | E14: 16.97 | F14: 3.2 | G14: 0.711 | H14: =E14*B14 -> 19.12519 | I14: =H14*0.000001*C14*1000/D14 -> 0.7092552
A15: 60 | B15: 1.067 | C15: 1.009 | D15: 0.0285 | E15: 18.9 | F15: 3 | G15: 0.709 | H15: =E15*B15 -> 20.1663 | I15: =H15*0.000001*C15*1000/D15 -> 0.71395778
A16: 80 | B16: 1 | C16: 1.009 | D16: 0.0299 | E16: 20.94 | F16: 2.83 | G16: 0.708 | H16: =E16*B16 -> 20.94 | I16: =H16*0.000001*C16*1000/D16 -> 0.70663746
A17: 100 | B17: 0.946 | C17: 1.009 | D17: 0.0314 | E17: 23.06 | F17: 2.68 | G17: 0.703 | H17: =E17*B17 -> 21.81476 | I17: =H17*0.000001*C17*1000/D17 -> 0.70099022
A18: 120 | B18: 0.898 | C18: 1.013 | D18: 0.0328 | E18: 25.23 | F18: 2.55 | G18: 0.7 | H18: =E18*B18 -> 22.65654 | I18: =H18*0.000001*C18*1000/D18 -> 0.6997279
A19: 140 | B19: 0.854 | C19: 1.013 | D19: 0.0343 | E19: 27.55 | F19: 2.43 | G19: 0.695 | H19: =E19*B19 -> 23.5277 | I19: =H19*0.000001*C19*1000/D19 -> 0.69485598
A20: 160 | B20: 0.815 | C20: 1.017 | D20: 0.0358 | E20: 29.85 | F20: 2.32 | G20: 0.69 | H20: =E20*B20 -> 24.32775 | I20: =H20*0.000001*C20*1000/D20 -> 0.69109837
A21: 180 | B21: 0.779 | C21: 1.022 | D21: 0.0372 | E21: 32.29 | F21: 2.21 | G21: 0.69 | H21: =E21*B21 -> 25.15391 | I21: =H21*0.000001*C21*1000/D21 -> 0.69105634
... A26: 400 | B26: 0.524 | C26: 1.068 | D26: 0.0515 | E26: 62.53 | F26: 1.49 | G26: 0.68 | H26: =E26*B26 -> 32.76572 | I26: =H26*0.000001*C26*1000/D26 -> 0.67949105
A28: More about Air Composition!

Sheet Model
A1: Inflow Temperature | B1: K | C1: Ti | D1: =273.15+Interface!C29 -> 290.63104 | E1: =TRUNC(D1-273.15,1)&" degC" -> 17.4 degC
A2: Inflow Pressure | B2: Pa | C2: Pi | D2: =Interface!C3 -> 89872.651 | E2: =INT(D2/100)&" mbar" -> 898 mbar
A3: Inflow Density | B3: kg/m3 | C3: ri | D3: =Pi/(Rs*Ti) -> 1.0774662
A4: Volume Inflow Rate | B4: m3/s | C4: Qi | D4: =Interface!C22/Interface!C21/1000 -> 0.12
A5: Mass Flowrate | B5: kg/s | C5: m. | D5: =ri*Qi -> 0.12929595
A6: Inflow Velocity | B6: m/s | C6: Vi | D6: =Qi/Aw -> 2.5531915
A7: Time Increment | B7: s | C7: dt | D7: 0.01
A9: Step # | D9: 1 | E9: 2 | F9: 3 | G9: 4 | H9: 5 | I9: 6 | J9: 7 | K9: 8 | L9: 9 | M9: 10 | N9: 11 | O9: 12 | P9: 13 | Q9: 14 | R9: 15 | S9: 16 | T9: 17 | U9: 18 | V9: 19 | W9: 20 | X9: 21 | Y9: 22 | Z9: 23 | AA9: 24 | AB9: 25 | AC9: 26 | AD9: 27 | AE9: 28 | AF9: 29 | AG9: 30 | AH9: 31 | AI9: 32 | AJ9: 33 | AK9: 34 | AL9: 35 | AM9: 36 | AN9: 37 | AO9: 38 | AP9: 39 | AQ9: 40 | AR9: 41 | AS9: 42 | AT9: 43 | AU9: 44 | AV9: 45 | AW9: 46 | AX9: 47 | AY9: 48 | AZ9: 49 | BA9: 50 | BB9: 51 | BC9: 52 | BD9: 53 | BE9: 54 | BF9: 55 | BG9: 56 | BH9: 57 | BI9: 58 | BJ9: 59 | BK9: 60 | BL9: 61 | BM9: 62 | BN9: 63 | BO9: 64 | BP9: 65 | BQ9: 66 | BR9: 67 | BS9: 68 | BT9: 69 | BU9: 70 | BV9: 71 | BW9: 72 | BX9: 73 | BY9: 74 | BZ9: 75 | CA9: 76 | CB9: 77 | CC9: 78 | CD9: 79 | CE9: 80 | CF9: 81 | CG9: 82 | CH9: 83 | CI9: 84 | CJ9: 85 | CK9: 86 | CL9: 87 | CM9: 88 | CN9: 89 | CO9: 90 | CP9: 91 | CQ9: 92 | CR9: 93 | CS9: 94 | CT9: 95 | CU9: 96 | CV9: 97 | CW9: 98 | CX9: 99 | CY9: 100 | CZ9: 101 | DA9: 102 | DB9: 103 | DC9: 104 | DD9: 105 | DE9: 106 | DF9: 107 | DG9: 108 | DH9: 109 | DI9: 110 | DJ9: 111 | DK9: 112 | DL9: 113 | DM9: 114 | DN9: 115 | DO9: 116 | DP9: 117 | DQ9: 118 | DR9: 119 | DS9: 120 | DT9: 121 | DU9: 122 | DV9: 123 | DW9: 124 | DX9: 125 | DY9: 126 | DZ9: 127 | EA9: 128 | EB9: 129 | EC9: 130 | ED9: 131 | EE9: 132 | EF9: 133 | EG9: 134 | EH9: 135 | EI9: 136 | EJ9: 137 | EK9: 138 | EL9: 139 | EM9: 140 | EN9: 141 | EO9: 142 | EP9: 143 | EQ9: 144 | ER9: 145 | ES9: 146 | ET9: 147 | EU9: 148 | EV9: 149 | EW9: 150 | EX9: 151 | EY9: 152 | EZ9: 153 | FA9: 154 | FB9: 155 | FC9: 156 | FD9: 157 | FE9: 158 | FF9: 159 | FG9: 160 | FH9: 161 | FI9: 162 | FJ9: 163 | FK9: 164 | FL9: 165 | FM9: 166 | FN9: 167 | FO9: 168 | FP9: 169 | FQ9: 170 | FR9: 171 | FS9: 172 | FT9: 173 | FU9: 174 | FV9: 175 | FW9: 176 | FX9: 177 | FY9: 178 | FZ9: 179 | GA9: 180 | GB9: 181 | GC9: 182 | GD9: 183 | GE9: 184 | GF9: 185 | GG9: 186 | GH9: 187 | GI9: 188 | GJ9: 189 | GK9: 190 | GL9: 191 | GM9: 192 | GN9: 193 | GO9: 194 | GP9: 195 | GQ9: 196 | GR9: 197 | GS9: 198 | GT9: 199 | GU9: 200 | GV9: 201 | GW9: 202 | GX9: 203 | GY9: 204 | GZ9: 205 | HA9: 206 | HB9: 207 | HC9: 208 | HD9: 209 | HE9: 210 | HF9: 211 | HG9: 212 | HH9: 213 | HI9: 214 | HJ9: 215 | HK9: 216 | HL9: 217 | HM9: 218 | HN9: 219 | HO9: 220 | HP9: 221 | HQ9: 222 | HR9: 223 | HS9: 224 | HT9: 225 | HU9: 226 | HV9: 227 | HW9: 228 | HX9: 229 | HY9: 230 | HZ9: 231 | IA9: 232 | IB9: 233 | IC9: 234 | ID9: 235 | IE9: 236 | IF9: 237 | IG9: 238 | IH9: 239 | II9: 240 | IJ9: 241 | IK9: 242 | IL9: 243 | IM9: 244 | IN9: 245 | IO9: 246 | IP9: 247 | IQ9: 248 | IR9: 249 | IS9: 250 | IT9: 251 | IU9: 252 | IV9: 253 | IW9: 254 | IX9: 255 | IY9: 256 | IZ9: 257 | JA9: 258 | JB9: 259 | JC9: 260 | JD9: 261 | JE9: 262 | JF9: 263 | JG9: 264 | JH9: 265 | JI9: 266 | JJ9: 267 | JK9: 268 | JL9: 269 | JM9: 270 | JN9: 271 | JO9: 272 | JP9: 273
A10: Position | B10: m | C10: x | D10: 0 | E10: =D10+D19 -> 0.025531915 | F10: =E10+E19 -> 0.051068644 | G10: =F10+F19 -> 0.076610185 | H10: =G10+G19 -> 0.10215654 | I10: =H10+H19 -> 0.1277077 | J10: =I10+I19 -> 0.15326367 | K10: =J10+J19 -> 0.17882445 | L10: =K10+K19 -> 0.20439004 | ... AZL10: =AZK10+AZK19 -> 35.21462
A11: Air Temperature | B11: K | C11: T | D11: =Ti -> 290.63104 | E11: =IF(D10>L,D11,D11+D41) -> 290.68535 | F11: =IF(E10>L,E11,E11+E41) -> 290.73964 | G11: =IF(F10>L,F11,F11+F41) -> 290.79392 | H11: =IF(G10>L,G11,G11+G41) -> 290.84819 | I11: =IF(H10>L,H11,H11+H41) -> 290.90244 | J11: =IF(I10>L,I11,I11+I41) -> 290.95669 | K11: =IF(J10>L,J11,J11+J41) -> 291.01091 | L11: =IF(K10>L,K11,K11+K41) -> 291.06513 | ... AZL11: =IF(AZK10>L,AZK11,AZK11+AZK41) -> 294.82634
A12: Air Temperature | B12: oC | D12: =D11-273.15 -> 17.48104 | E12: =E11-273.15 -> 17.535347 | F12: =F11-273.15 -> 17.589641 | G12: =G11-273.15 -> 17.643922 | H12: =H11-273.15 -> 17.69819 | I12: =I11-273.15 -> 17.752444 | J12: =J11-273.15 -> 17.806686 | K12: =K11-273.15 -> 17.860914 | ... AZL12: =AZL11-273.15 -> 21.676345
A13: Air Pressure | B13: Pa | C13: P | D13: =Pi -> 89872.651 | E13: =IF(E10>L,D13,D13-D43) -> 89872.5 | F13: =IF(F10>L,E13,E13-E43) -> 89872.35 | G13: =IF(G10>L,F13,F13-F43) -> 89872.199 | H13: =IF(H10>L,G13,G13-G43) -> 89872.048 | I13: =IF(I10>L,H13,H13-H43) -> 89871.897 | J13: =IF(J10>L,I13,I13-I43) -> 89871.746 | K13: =IF(K10>L,J13,J13-J43) -> 89871.594 | L13: =IF(L10>L,K13,K13-K43) -> 89871.443 | ... AZL13: =IF(AZL10>L,AZK13,AZK13-AZK43) -> 89860.859
A14: Air Viscosity | B14: Pa.s | C14: m | D14: =0.01827*(0.555*524.07+120)/(0.555*D11*9/5+120)*(D11*9/5/524.07)^1.5/1000 -> 1.8244195e-05 | E14: =0.01827*(0.555*524.07+120)/(0.555*E11*9/5+120)*(E11*9/5/524.07)^1.5/1000 -> 1.8246897e-05 | F14: =0.01827*(0.555*524.07+120)/(0.555*F11*9/5+120)*(F11*9/5/524.07)^1.5/1000 -> 1.8249597e-05 | G14: =0.01827*(0.555*524.07+120)/(0.555*G11*9/5+120)*(G11*9/5/524.07)^1.5/1000 -> 1.8252297e-05 | H14: =0.01827*(0.555*524.07+120)/(0.555*H11*9/5+120)*(H11*9/5/524.07)^1.5/1000 -> 1.8254995e-05 | I14: =0.01827*(0.555*524.07+120)/(0.555*I11*9/5+120)*(I11*9/5/524.07)^1.5/1000 -> 1.8257693e-05 | J14: =0.01827*(0.555*524.07+120)/(0.555*J11*9/5+120)*(J11*9/5/524.07)^1.5/1000 -> 1.826039e-05 | K14: =0.01827*(0.555*524.07+120)/(0.555*K11*9/5+120)*(K11*9/5/524.07)^1.5/1000 -> 1.8263086e-05 | ... AZL14: =0.01827*(0.555*524.07+120)/(0.555*AZL11*9/5+120)*(AZL11*9/5/524.07)^1.5/1000 -> 1.8452188e-05
A15: Plate Temp Viscosity | B15: Pa.s | C15: mw | D15: =0.01827*(0.555*524.07+120)/(0.555*D38*9/5+120)*(D38*9/5/524.07)^1.5/1000 -> 1.8400877e-05 | E15: =0.01827*(0.555*524.07+120)/(0.555*E38*9/5+120)*(E38*9/5/524.07)^1.5/1000 -> 1.8403463e-05 | F15: =0.01827*(0.555*524.07+120)/(0.555*F38*9/5+120)*(F38*9/5/524.07)^1.5/1000 -> 1.8406047e-05 | G15: =0.01827*(0.555*524.07+120)/(0.555*G38*9/5+120)*(G38*9/5/524.07)^1.5/1000 -> 1.8408631e-05 | H15: =0.01827*(0.555*524.07+120)/(0.555*H38*9/5+120)*(H38*9/5/524.07)^1.5/1000 -> 1.8411213e-05 | I15: =0.01827*(0.555*524.07+120)/(0.555*I38*9/5+120)*(I38*9/5/524.07)^1.5/1000 -> 1.8413795e-05 | J15: =0.01827*(0.555*524.07+120)/(0.555*J38*9/5+120)*(J38*9/5/524.07)^1.5/1000 -> 1.8416376e-05 | K15: =0.01827*(0.555*524.07+120)/(0.555*K38*9/5+120)*(K38*9/5/524.07)^1.5/1000 -> 1.8418956e-05 | ... AZL15: =0.01827*(0.555*524.07+120)/(0.555*AZL38*9/5+120)*(AZL38*9/5/524.07)^1.5/1000 -> 1.8599949e-05
A16: Air Density | B16: kg/m3 | C16: r | D16: =D13/(Rs*D11) -> 1.0774662 | E16: =E13/(Rs*E11) -> 1.0772631 | F16: =F13/(Rs*F11) -> 1.0770601 | G16: =G13/(Rs*G11) -> 1.0768573 | H16: =H13/(Rs*H11) -> 1.0766545 | I16: =I13/(Rs*I11) -> 1.0764519 | J16: =J13/(Rs*J11) -> 1.0762494 | K16: =K13/(Rs*K11) -> 1.0760471 | ... AZL16: =AZL13/(Rs*AZL11) -> 1.0619948
A17: Air Thermal Conductivity | B17: W/mK | C17: k | D17: =0.0242*(1+0.0031*(D11-273.15)) -> 0.025511428 | E17: =0.0242*(1+0.0031*(E11-273.15)) -> 0.025515502 | F17: =0.0242*(1+0.0031*(F11-273.15)) -> 0.025519575 | G17: =0.0242*(1+0.0031*(G11-273.15)) -> 0.025523647 | H17: =0.0242*(1+0.0031*(H11-273.15)) -> 0.025527718 | I17: =0.0242*(1+0.0031*(I11-273.15)) -> 0.025531788 | J17: =0.0242*(1+0.0031*(J11-273.15)) -> 0.025535858 | K17: =0.0242*(1+0.0031*(K11-273.15)) -> 0.025539926 | ... AZL17: =0.0242*(1+0.0031*(AZL11-273.15)) -> 0.025826159
A18: Velocity | B18: m/s | C18: V | D18: =Vi -> 2.5531915 | E18: =D16*D18/E16 -> 2.5536729 | F18: =E16*E18/F16 -> 2.5541541 | G18: =F16*F18/G16 -> 2.5546353 | H18: =G16*G18/H16 -> 2.5551163 | I18: =H16*H18/I16 -> 2.5555972 | J18: =I16*I18/J16 -> 2.556078 | K18: =J16*J18/K16 -> 2.5565587 | L18: =K16*K18/L16 -> 2.5570393 | ... AZL18: =AZK16*AZK18/AZL16 -> 2.5903871
A19: Step Length | B19: m | C19: dx | D19: =D18*dt -> 0.025531915 | E19: =E18*dt -> 0.025536729 | F19: =F18*dt -> 0.025541541 | G19: =G18*dt -> 0.025546353 | H19: =H18*dt -> 0.025551163 | I19: =I18*dt -> 0.025555972 | J19: =J18*dt -> 0.02556078 | K19: =K18*dt -> 0.025565587 | ... AZL19: =AZL18*dt -> 0.025903871
A20: Contact Area | B20: m2 | C20: Ac | D20: =D19*Wc -> 0.1746383 | E20: =E19*Wc -> 0.17467122 | F20: =F19*Wc -> 0.17470414 | G20: =G19*Wc -> 0.17473705 | H20: =H19*Wc -> 0.17476996 | I20: =I19*Wc -> 0.17480285 | J20: =J19*Wc -> 0.17483574 | K20: =K19*Wc -> 0.17486862 | ... AZL20: =AZL19*Wc -> 0.17718248
A21: Insolation Area | B21: m2 | C21: Ai | D21: =D19*W -> 0.025531915 | E21: =E19*W -> 0.025536729 | F21: =F19*W -> 0.025541541 | G21: =G19*W -> 0.025546353 | H21: =H19*W -> 0.025551163 | I21: =I19*W -> 0.025555972 | J21: =J19*W -> 0.02556078 | K21: =K19*W -> 0.025565587 | ... AZL21: =AZL19*W -> 0.025903871
A22: Insolation Power | B22: W | C22: I | D22: =D21*I*a -> 7.4297872 | E22: =E21*I*a -> 7.431188 | F22: =F21*I*a -> 7.4325885 | G22: =G21*I*a -> 7.4339886 | H22: =H21*I*a -> 7.4353884 | I22: =I21*I*a -> 7.4367879 | J22: =J21*I*a -> 7.4381871 | K22: =K21*I*a -> 7.4395859 | ... AZL22: =AZL21*I*a -> 7.5380264
A23: Reynolds Number | C23: Re | D23: =D18*Dh*D16/D14 -> 3643.683 | E23: =E18*Dh*E16/E14 -> 3643.1436 | F23: =F18*Dh*F16/F14 -> 3642.6045 | G23: =G18*Dh*G16/G14 -> 3642.0658 | H23: =H18*Dh*H16/H14 -> 3641.5273 | I23: =I18*Dh*I16/I14 -> 3640.9892 | J23: =J18*Dh*J16/J14 -> 3640.4515 | K23: =K18*Dh*K16/K14 -> 3639.9141 | ... AZL23: =AZL18*Dh*AZL16/AZL14 -> 3602.6114
A24: Prandtl Number | C24: Pr | D24: =1005*D14/D17 -> 0.71871384 | E24: =1005*E14/E17 -> 0.71870548 | F24: =1005*F14/F17 -> 0.71869712 | G24: =1005*G14/G17 -> 0.71868876 | H24: =1005*H14/H17 -> 0.71868038 | I24: =1005*I14/I17 -> 0.71867201 | J24: =1005*J14/J17 -> 0.71866363 | K24: =1005*K14/K17 -> 0.71865525 | ... AZL24: =1005*AZL14/AZL17 -> 0.71804905
A25: Laminar Heat Transfer Coefficient | B25: W/mk | C25: hl | D25: =D17/Dh*(3.65+(0.0668*D23*D24*Dh/L)/(1+0.04*(D23*D24*Dh/L)^(2/3)))*(D14/D15)^0.14 -> 5.4406169 | E25: =E17/Dh*(3.65+(0.0668*E23*E24*Dh/L)/(1+0.04*(E23*E24*Dh/L)^(2/3)))*(E14/E15)^0.14 -> 5.4412858 | F25: =F17/Dh*(3.65+(0.0668*F23*F24*Dh/L)/(1+0.04*(F23*F24*Dh/L)^(2/3)))*(F14/F15)^0.14 -> 5.4419544 | G25: =G17/Dh*(3.65+(0.0668*G23*G24*Dh/L)/(1+0.04*(G23*G24*Dh/L)^(2/3)))*(G14/G15)^0.14 -> 5.4426229 | H25: =H17/Dh*(3.65+(0.0668*H23*H24*Dh/L)/(1+0.04*(H23*H24*Dh/L)^(2/3)))*(H14/H15)^0.14 -> 5.4432913 | I25: =I17/Dh*(3.65+(0.0668*I23*I24*Dh/L)/(1+0.04*(I23*I24*Dh/L)^(2/3)))*(I14/I15)^0.14 -> 5.4439594 | J25: =J17/Dh*(3.65+(0.0668*J23*J24*Dh/L)/(1+0.04*(J23*J24*Dh/L)^(2/3)))*(J14/J15)^0.14 -> 5.4446274 | K25: =K17/Dh*(3.65+(0.0668*K23*K24*Dh/L)/(1+0.04*(K23*K24*Dh/L)^(2/3)))*(K14/K15)^0.14 -> 5.4452952 | ... AZL25: =AZL17/Dh*(3.65+(0.0668*AZL23*AZL24*Dh/L)/(1+0.04*(AZL23*AZL24*Dh/L)^(2/3)))*(AZL14/AZL15)^0.14 -> 5.4922542
A26: Turbulent Heat Transfer Coefficient | B26: W/mk | C26: ht | D26: =0.023*D17/Dh*D23^0.8*D24^(1/3)*(D14/D15)^0.14 -> 15.35261 | E26: =0.023*E17/Dh*E23^0.8*E24^(1/3)*(E14/E15)^0.14 -> 15.3532 | F26: =0.023*F17/Dh*F23^0.8*F24^(1/3)*(F14/F15)^0.14 -> 15.35379 | G26: =0.023*G17/Dh*G23^0.8*G24^(1/3)*(G14/G15)^0.14 -> 15.354379 | H26: =0.023*H17/Dh*H23^0.8*H24^(1/3)*(H14/H15)^0.14 -> 15.354969 | I26: =0.023*I17/Dh*I23^0.8*I24^(1/3)*(I14/I15)^0.14 -> 15.355558 | J26: =0.023*J17/Dh*J23^0.8*J24^(1/3)*(J14/J15)^0.14 -> 15.356147 | K26: =0.023*K17/Dh*K23^0.8*K24^(1/3)*(K14/K15)^0.14 -> 15.356737 | ... AZL26: =0.023*AZL17/Dh*AZL23^0.8*AZL24^(1/3)*(AZL14/AZL15)^0.14 -> 15.398194
A27: Dynamic Heat Transfer Coefficient | B27: W/mk | C27: kd | D27: =IF(D23<2000,D25,IF(D23<10000,D25+(D26-D25)*((D23-2000)/8000),D26)) -> 7.4771388 | E27: =IF(E23<2000,E25,IF(E23<10000,E25+(E26-E25)*((E23-2000)/8000),E26)) -> 7.4771231 | F27: =IF(F23<2000,F25,IF(F23<10000,F25+(F26-F25)*((F23-2000)/8000),F26)) -> 7.4771076 | G27: =IF(G23<2000,G25,IF(G23<10000,G25+(G26-G25)*((G23-2000)/8000),G26)) -> 7.4770924 | H27: =IF(H23<2000,H25,IF(H23<10000,H25+(H26-H25)*((H23-2000)/8000),H26)) -> 7.4770775 | I27: =IF(I23<2000,I25,IF(I23<10000,I25+(I26-I25)*((I23-2000)/8000),I26)) -> 7.4770628 | J27: =IF(J23<2000,J25,IF(J23<10000,J25+(J26-J25)*((J23-2000)/8000),J26)) -> 7.4770484 | K27: =IF(K23<2000,K25,IF(K23<10000,K25+(K26-K25)*((K23-2000)/8000),K26)) -> 7.4770342 | ... AZL27: =IF(AZL23<2000,AZL25,IF(AZL23<10000,AZL25+(AZL26-AZL25)*((AZL23-2000)/8000),AZL26)) -> 7.4766757
A28: Radiative Absorption Rate | B28: W | C28: Ar | D28: =SBK*e*D20*(D38^4-D11^4) -> 2.9334655 | E28: =SBK*e*E20*(E38^4-E11^4) -> 2.9336986 | F28: =SBK*e*F20*(F38^4-F11^4) -> 2.9339299 | G28: =SBK*e*G20*(G38^4-G11^4) -> 2.9341595 | H28: =SBK*e*H20*(H38^4-H11^4) -> 2.9343873 | I28: =SBK*e*I20*(I38^4-I11^4) -> 2.9346133 | J28: =SBK*e*J20*(J38^4-J11^4) -> 2.9348376 | K28: =SBK*e*K20*(K38^4-K11^4) -> 2.93506 | ... AZL28: =SBK*e*AZL20*(AZL38^4-AZL11^4) -> 2.9463153
A29: Conductive Absorption Rate | B29: W | C29: Ak | D29: =D27*D20*(D38-D11) -> 4.1233299 | E29: =E27*E20*(E38-E11) -> 4.1213946 | F29: =F27*F20*(F38-F11) -> 4.1194587 | G29: =G27*G20*(G38-G11) -> 4.1175224 | H29: =H27*H20*(H38-H11) -> 4.1155856 | I29: =I27*I20*(I38-I11) -> 4.1136483 | J29: =J27*J20*(J38-J11) -> 4.1117105 | K29: =K27*K20*(K38-K11) -> 4.1097722 | ... AZL29: =AZL27*AZL20*(AZL38-AZL11) -> 3.9710035
A30: Total Absorption Rate | B30: W | C30: A | D30: =D28+D29 -> 7.0567954 | E30: =E28+E29 -> 7.0550932 | F30: =F28+F29 -> 7.0533887 | G30: =G28+G29 -> 7.0516819 | H30: =H28+H29 -> 7.0499729 | I30: =I28+I29 -> 7.0482616 | J30: =J28+J29 -> 7.0465481 | K30: =K28+K29 -> 7.0448323 | ... AZL30: =AZL28+AZL29 -> 6.9173188
A31: Time Increment Total Absorption | B31: J | C31: At | D31: =D30*dt -> 0.070567954 | E31: =E30*dt -> 0.070550932 | F31: =F30*dt -> 0.070533887 | G31: =G30*dt -> 0.070516819 | H31: =H30*dt -> 0.070499729 | I31: =I30*dt -> 0.070482616 | J31: =J30*dt -> 0.070465481 | K31: =K30*dt -> 0.070448323 | ... AZL31: =AZL30*dt -> 0.069173188
A32: Time Increment Insolation | B32: J | C32: It | D32: =D22*dt -> 0.074297872 | E32: =E22*dt -> 0.07431188 | F32: =F22*dt -> 0.074325885 | G32: =G22*dt -> 0.074339886 | H32: =H22*dt -> 0.074353884 | I32: =I22*dt -> 0.074367879 | J32: =J22*dt -> 0.074381871 | K32: =K22*dt -> 0.074395859 | ... AZL32: =AZL22*dt -> 0.075380264
A33: Return Conduction Rate (via air-glass) | B33: W | C33: Rk | D33: =D17/0.1*(D38-Te)/(1+D17/0.1*0.004/1.1)*D21 -> 0.043201834 | E33: =E17/0.1*(E38-Te)/(1+E17/0.1*0.004/1.1)*E21 -> 0.043556923 | F33: =F17/0.1*(F38-Te)/(1+F17/0.1*0.004/1.1)*F21 -> 0.043912165 | G33: =G17/0.1*(G38-Te)/(1+G17/0.1*0.004/1.1)*G21 -> 0.04426756 | H33: =H17/0.1*(H38-Te)/(1+H17/0.1*0.004/1.1)*H21 -> 0.044623107 | I33: =I17/0.1*(I38-Te)/(1+I17/0.1*0.004/1.1)*I21 -> 0.044978807 | J33: =J17/0.1*(J38-Te)/(1+J17/0.1*0.004/1.1)*J21 -> 0.045334659 | K33: =K17/0.1*(K38-Te)/(1+K17/0.1*0.004/1.1)*K21 -> 0.045690664 | ... AZL33: =AZL17/0.1*(AZL38-Te)/(1+AZL17/0.1*0.004/1.1)*AZL21 -> 0.0713413
A34: Reradiation Rate | B34: W | C34: Rr | D34: =SBK*ee*D21*(D38^4-Te^4) -> 0.32979115 | E34: =SBK*ee*E21*(E38^4-Te^4) -> 0.33253913 | F34: =SBK*ee*F21*(F38^4-Te^4) -> 0.33528888 | G34: =SBK*ee*G21*(G38^4-Te^4) -> 0.33804041 | H34: =SBK*ee*H21*(H38^4-Te^4) -> 0.34079371 | I34: =SBK*ee*I21*(I38^4-Te^4) -> 0.3435488 | J34: =SBK*ee*J21*(J38^4-Te^4) -> 0.34630565 | K34: =SBK*ee*K21*(K38^4-Te^4) -> 0.34906427 | ... AZL34: =SBK*ee*AZL21*(AZL38^4-Te^4) -> 0.5493689
A35: Total Return Rate | B35: W | C35: R | D35: =D34+D33 -> 0.37299299 | E35: =E34+E33 -> 0.37609605 | F35: =F34+F33 -> 0.37920104 | G35: =G34+G33 -> 0.38230797 | H35: =H34+H33 -> 0.38541682 | I35: =I34+I33 -> 0.3885276 | J35: =J34+J33 -> 0.39164031 | K35: =K34+K33 -> 0.39475494 | ... AZL35: =AZL34+AZL33 -> 0.6207102
A36: Time Increment Total Return | B36: J | C36: Rt | D36: =D35*dt -> 0.0037299299 | E36: =E35*dt -> 0.0037609605 | F36: =F35*dt -> 0.0037920104 | G36: =G35*dt -> 0.0038230797 | H36: =H35*dt -> 0.0038541682 | I36: =I35*dt -> 0.003885276 | J36: =J35*dt -> 0.0039164031 | K36: =K35*dt -> 0.0039475494 | ... AZL36: =AZL35*dt -> 0.006207102
A37: Allowable Absorption | B37: J | C37: At | D37: =D32-D36 -> 0.070567942 | E37: =E32-E36 -> 0.07055092 | F37: =F32-F36 -> 0.070533874 | G37: =G32-G36 -> 0.070516807 | H37: =H32-H36 -> 0.070499716 | I37: =I32-I36 -> 0.070482603 | J37: =J32-J36 -> 0.070465468 | K37: =K32-K36 -> 0.07044831 | ... AZL37: =AZL32-AZL36 -> 0.069173162
A38: Plate Temperature | B38: K | C38: Tp | D38: =IF(D38=0,D11,D38+(D37-D31)) -> 293.78876 | E38: =IF(E38=0,E11,E38+(E37-E31)) -> 293.84099 | F38: =IF(F38=0,F11,F38+(F37-F31)) -> 293.89322 | G38: =IF(G38=0,G11,G38+(G37-G31)) -> 293.94543 | H38: =IF(H38=0,H11,H38+(H37-H31)) -> 293.99763 | I38: =IF(I38=0,I11,I38+(I37-I31)) -> 294.04981 | J38: =IF(J38=0,J11,J38+(J37-J31)) -> 294.10199 | K38: =IF(K38=0,K11,K38+(K37-K31)) -> 294.15415 | ... AZL38: =IF(AZL38=0,AZL11,AZL38+(AZL37-AZL31)) -> 297.82393
A39: Plate Temperature | B39: oC | C39: Tp | D39: =D38-273.15 -> 20.638756 | E39: =E38-273.15 -> 20.690993 | F39: =F38-273.15 -> 20.743217 | G39: =G38-273.15 -> 20.795428 | H39: =H38-273.15 -> 20.847627 | I39: =I38-273.15 -> 20.899813 | J39: =J38-273.15 -> 20.951986 | K39: =K38-273.15 -> 21.004146 | ... AZL39: =AZL38-273.15 -> 24.673926
A40: Step Mass | B40: kg | C40: M | D40: =D16*D19*Aw -> 0.0012929595 | E40: =E16*E19*Aw -> 0.0012929595 | F40: =F16*F19*Aw -> 0.0012929595 | G40: =G16*G19*Aw -> 0.0012929595 | H40: =H16*H19*Aw -> 0.0012929595 | I40: =I16*I19*Aw -> 0.0012929595 | J40: =J16*J19*Aw -> 0.0012929595 | K40: =K16*K19*Aw -> 0.0012929595 | ... AZL40: =AZL16*AZL19*Aw -> 0.0012929595
A41: Temperature Change | B41: K | C41: dT | D41: =D31/(D40*1005) -> 0.054307094 | E41: =E31/(E40*1005) -> 0.054293993 | F41: =F31/(F40*1005) -> 0.054280876 | G41: =G31/(G40*1005) -> 0.054267741 | H41: =H31/(H40*1005) -> 0.054254589 | I41: =I31/(I40*1005) -> 0.054241419 | J41: =J31/(J40*1005) -> 0.054228233 | K41: =K31/(K40*1005) -> 0.054215028 | ... AZL41: =AZL31/(AZL40*1005) -> 0.053233721
A42: Friction Factor | C42: f | D42: =IF(D23=0,0.02,IF(D23<2000,64/D23,IF(D23<4000,0.316/D23^0.25,(1/(-2*LOG(0.000061/(3.7*Dh)+2.51/(D23*SQRT(D42)))))^2))) -> 0.0406726 | E42: =IF(E23=0,0.02,IF(E23<2000,64/E23,IF(E23<4000,0.316/E23^0.25,(1/(-2*LOG(0.000061/(3.7*Dh)+2.51/(E23*SQRT(E42)))))^2))) -> 0.040674105 | F42: =IF(F23=0,0.02,IF(F23<2000,64/F23,IF(F23<4000,0.316/F23^0.25,(1/(-2*LOG(0.000061/(3.7*Dh)+2.51/(F23*SQRT(F42)))))^2))) -> 0.04067561 | G42: =IF(G23=0,0.02,IF(G23<2000,64/G23,IF(G23<4000,0.316/G23^0.25,(1/(-2*LOG(0.000061/(3.7*Dh)+2.51/(G23*SQRT(G42)))))^2))) -> 0.040677114 | H42: =IF(H23=0,0.02,IF(H23<2000,64/H23,IF(H23<4000,0.316/H23^0.25,(1/(-2*LOG(0.000061/(3.7*Dh)+2.51/(H23*SQRT(H42)))))^2))) -> 0.040678618 | I42: =IF(I23=0,0.02,IF(I23<2000,64/I23,IF(I23<4000,0.316/I23^0.25,(1/(-2*LOG(0.000061/(3.7*Dh)+2.51/(I23*SQRT(I42)))))^2))) -> 0.040680121 | J42: =IF(J23=0,0.02,IF(J23<2000,64/J23,IF(J23<4000,0.316/J23^0.25,(1/(-2*LOG(0.000061/(3.7*Dh)+2.51/(J23*SQRT(J42)))))^2))) -> 0.040681623 | K42: =IF(K23=0,0.02,IF(K23<2000,64/K23,IF(K23<4000,0.316/K23^0.25,(1/(-2*LOG(0.000061/(3.7*Dh)+2.51/(K23*SQRT(K42)))))^2))) -> 0.040683124 | ... AZL42: =IF(AZL23=0,0.02,IF(AZL23<2000,64/AZL23,IF(AZL23<4000,0.316/AZL23^0.25,(1/(-2*LOG(0.000061/(3.7*Dh)+2.51/(AZL23*SQRT(AZL42)))))^2))) -> 0.04078803
A43: Pressure Loss | B43: Pa | C43: dP | D43: =D16*9.8*D42*D19*D18^2/(19.62*Dh) -> 0.15076641 | E43: =E16*9.8*E42*E19*E18^2/(19.62*Dh) -> 0.15082884 | F43: =F16*9.8*F42*F19*F18^2/(19.62*Dh) -> 0.15089128 | G43: =G16*9.8*G42*G19*G18^2/(19.62*Dh) -> 0.15095372 | H43: =H16*9.8*H42*H19*H18^2/(19.62*Dh) -> 0.15101615 | I43: =I16*9.8*I42*I19*I18^2/(19.62*Dh) -> 0.15107859 | J43: =J16*9.8*J42*J19*J18^2/(19.62*Dh) -> 0.15114102 | K43: =K16*9.8*K42*K19*K18^2/(19.62*Dh) -> 0.15120346 | ... AZL43: =AZL16*9.8*AZL42*AZL19*AZL18^2/(19.62*Dh) -> 0.15563165

Sheet Sheet1
A1: TIME | B1: AIRFLOW | C1: TEMP IN | D1: TEMP OUT | E1: HEATFLOW
A2: am/pm | B2: litres/sec | C2: oC | D2: oC | E2: kW | F2: kWH
A3: 9 | B3: 180 | C3: 22 | D3: 35 | E3: =B3*(D3-C3)/1000 -> 2.34 | F3: =E3 -> 2.34
A4: 10 | B4: 180 | C4: 22 | D4: 36 | E4: =B4*(D4-C4)/1000 -> 2.52 | F4: =E4 -> 2.52
A5: 11 | B5: 180 | C5: 22 | D5: 37 | E5: =B5*(D5-C5)/1000 -> 2.7 | F5: =E5 -> 2.7
A6: 12 | B6: 180 | C6: 22 | D6: 38 | E6: =B6*(D6-C6)/1000 -> 2.88 | F6: =E6 -> 2.88
A7: 1 | B7: 180 | C7: 22 | D7: 39 | E7: =B7*(D7-C7)/1000 -> 3.06 | F7: =E7 -> 3.06
A8: 2 | B8: 180 | C8: 22 | D8: 40 | E8: =B8*(D8-C8)/1000 -> 3.24 | F8: =E8 -> 3.24
A9: 3 | B9: 180 | C9: 22 | D9: 39 | E9: =B9*(D9-C9)/1000 -> 3.06 | F9: =E9 -> 3.06
A10: 4 | B10: 180 | C10: 22 | D10: 37 | E10: =B10*(D10-C10)/1000 -> 2.7 | F10: =E10 -> 2.7
A11: 5 | B11: 180 | C11: 22 | D11: 35 | E11: =B11*(D11-C11)/1000 -> 2.34 | F11: =E11 -> 2.34
F12: =SUM(F3:F11) -> 24.84 | G12: ~25 kWH per day
